BEGIN:VCALENDAR
VERSION:2.0
PRODID:-//Willow Park Village: Calgary Shopping Centre - ECPv6.15.20//NONSGML v1.0//EN
CALSCALE:GREGORIAN
METHOD:PUBLISH
X-WR-CALNAME:Willow Park Village: Calgary Shopping Centre
X-ORIGINAL-URL:https://wpv.ca
X-WR-CALDESC:Events for Willow Park Village: Calgary Shopping Centre
REFRESH-INTERVAL;VALUE=DURATION:PT1H
X-Robots-Tag:noindex
X-PUBLISHED-TTL:PT1H
BEGIN:VTIMEZONE
TZID:America/Edmonton
BEGIN:DAYLIGHT
TZOFFSETFROM:-0700
TZOFFSETTO:-0600
TZNAME:MDT
DTSTART:20250309T090000
END:DAYLIGHT
BEGIN:STANDARD
TZOFFSETFROM:-0600
TZOFFSETTO:-0700
TZNAME:MST
DTSTART:20251102T080000
END:STANDARD
BEGIN:DAYLIGHT
TZOFFSETFROM:-0700
TZOFFSETTO:-0600
TZNAME:MDT
DTSTART:20260308T090000
END:DAYLIGHT
BEGIN:STANDARD
TZOFFSETFROM:-0600
TZOFFSETTO:-0700
TZNAME:MST
DTSTART:20261101T080000
END:STANDARD
BEGIN:DAYLIGHT
TZOFFSETFROM:-0700
TZOFFSETTO:-0600
TZNAME:MDT
DTSTART:20270314T090000
END:DAYLIGHT
BEGIN:STANDARD
TZOFFSETFROM:-0600
TZOFFSETTO:-0700
TZNAME:MST
DTSTART:20271107T080000
END:STANDARD
END:VTIMEZONE
BEGIN:VEVENT
DTSTART;TZID=America/Edmonton:20260502T110000
DTEND;TZID=America/Edmonton:20260502T140000
DTSTAMP:20260420T010318
CREATED:20260408T144903Z
LAST-MODIFIED:20260408T191723Z
UID:24878-1777719600-1777730400@wpv.ca
SUMMARY:Mother's Day Event
DESCRIPTION:Whether you’re looking for the perfect Instagram backdrop\, a fun family outing\, or a chance to win big\, this is the event of the season. \n🌸 Blooms & Besties: The Ultimate Photo Op & Scavenger Hunt 🌸\nGet your cameras ready and your walking shoes on! We are transforming Willow Park Village into a floral wonderland for one day only. Whether you’re looking for the perfect Instagram backdrop\, a fun family outing\, or a chance to win big\, this is the event of the season. \n📸 The Main Attraction: The Floral Arch in celebration of Mother’s Day\nStep into a dream at our signature Flower Arch. Professionally designed and bursting with seasonal colors\, it’s the perfect spot for: \n\nFamily Portraits with the kids.\nBFF Photoshoots for the ‘gram.\nCouple Shots that belong in a frame.\n\nThe arch is open to everyone\, but the real magic happens when you join our exclusive WPV Scavenger Hunt. \n🕵 The Scavenger Hunt: Bloom to Win!\nWant a chance to win a $500 Gift Certificate to your favorite WPV shops? Registration on Eventbrite is your golden ticket to participate. \nHow it works: \n\nRegister: Grab your free “Hunter Pass” here on Eventbrite.\nCheck-In: Swing by the Flower Arch between 11:00 AM and 2:00 PM.\nThe Hunt: Visit our participating WPV shops to collect your blooms.\nThe Goal: Collect a minimum of 10 carnations from different stores.\nThe Reward: Once you’ve gathered your bouquet\, return to the finish line at the Administration Office to be entered into the grand prize draw for a $500 Gift Certificate!\n\n🗓 Event Details\n\nWhen: Saturday\, May 2nd\, 2026\nTime: 11:00 AM – 2:00 PM\nWhere: Willow Park Village (Start at the Flower Arch)\nCost: Free to attend; Registration required for Scavenger Hunt entry.\n\n🎟 Why Register?\nWhile the Flower Arch is open to all village patrons\, only Eventbrite registered guests are eligible to participate in the Scavenger Hunt and enter the $500 draw prize. \nDon’t miss out on a day of community\, flowers\, and fabulous prizes. Space for the Scavenger Hunt is limited—secure your spot today! \nPro-Tip: Make sure your phone is fully charged! You’re going to want to capture every moment (and every carnation) along the way. #WPVBlooms #FlowerArchHunt \nGet Your Tickets
URL:https://wpv.ca/event/mothers-day-event/
LOCATION:Willow Park Village
CATEGORIES:Celebration
ATTACH;FMTTYPE=image/jpeg:https://wpv.ca/wp-content/uploads/2026/04/WPV-Flower-Arch-Event-4_page-0001-1.jpg
END:VEVENT
END:VCALENDAR